BEGIN:VCALENDAR
VERSION:2.0
PRODID:-//Cornwall Innovation - ECPv6.15.20//NONSGML v1.0//EN
CALSCALE:GREGORIAN
METHOD:PUBLISH
X-ORIGINAL-URL:https://cornwallinnovation.co.uk
X-WR-CALDESC:Events for Cornwall Innovation
REFRESH-INTERVAL;VALUE=DURATION:PT1H
X-Robots-Tag:noindex
X-PUBLISHED-TTL:PT1H
BEGIN:VTIMEZONE
TZID:Europe/London
BEGIN:DAYLIGHT
TZOFFSETFROM:+0000
TZOFFSETTO:+0100
TZNAME:BST
DTSTART:20250330T010000
END:DAYLIGHT
BEGIN:STANDARD
TZOFFSETFROM:+0100
TZOFFSETTO:+0000
TZNAME:GMT
DTSTART:20251026T010000
END:STANDARD
BEGIN:DAYLIGHT
TZOFFSETFROM:+0000
TZOFFSETTO:+0100
TZNAME:BST
DTSTART:20260329T010000
END:DAYLIGHT
BEGIN:STANDARD
TZOFFSETFROM:+0100
TZOFFSETTO:+0000
TZNAME:GMT
DTSTART:20261025T010000
END:STANDARD
BEGIN:DAYLIGHT
TZOFFSETFROM:+0000
TZOFFSETTO:+0100
TZNAME:BST
DTSTART:20270328T010000
END:DAYLIGHT
BEGIN:STANDARD
TZOFFSETFROM:+0100
TZOFFSETTO:+0000
TZNAME:GMT
DTSTART:20271031T010000
END:STANDARD
END:VTIMEZONE
BEGIN:VEVENT
DTSTART;TZID=Europe/London:20260311T120000
DTEND;TZID=Europe/London:20260311T130000
DTSTAMP:20260422T100731
CREATED:20260217T150034Z
LAST-MODIFIED:20260217T151236Z
UID:5191-1773230400-1773234000@cornwallinnovation.co.uk
SUMMARY:Health & Wellness Sessions
DESCRIPTION:Helen from Mindfit Cornwall returns  for our next monthly Wellness Session! \nTake time out for yourself and join us for a relaxing and uplifting wellness hour\, including guided relaxation\, breathwork\, and a gentle stretch and tone with a Pilates section. \nSuitable for everyone\, whatever your level of experience. If you can’t stay for the full hour\, feel free to drop in for as long as you’re able. \nCome along\, unwind\, and give your wellbeing a boost. \nComplimentary for all CIC Customers \n📍 Helford Suite\, TIC\nTo book a place: TICEvents@plymouth.ac.uk
URL:https://cornwallinnovation.co.uk/event/health-wellness-sessions/
LOCATION:Tremough Innovation Centre\, Tremough Innovation Centre\, Penryn\, Tr10 9TA\, United Kingdom
CATEGORIES:Health & Wellness
END:VEVENT
BEGIN:VEVENT
DTSTART;TZID=Europe/London:20260310T120000
DTEND;TZID=Europe/London:20260310T130000
DTSTAMP:20260422T100731
CREATED:20260217T153252Z
LAST-MODIFIED:20260217T153252Z
UID:5221-1773144000-1773147600@cornwallinnovation.co.uk
SUMMARY:Health & Wellbeing Session
DESCRIPTION:Helen from Mindfit Cornwall returns for our next monthly Wellness Session! \nTake time out for yourself and join us for a relaxing and uplifting wellness hour\, including guided relaxation\, breathwork\, and a gentle stretch and tone with a Pilates section. \nSuitable for everyone\, whatever your level of experience. If you can’t stay for the full hour\, feel free to drop in for as long as you’re able. \nCome along\, unwind\, and give your wellbeing a boost. \nComplimentary for all CIC Customers
URL:https://cornwallinnovation.co.uk/event/health-wellbeing-session/
LOCATION:Pool Innovation Centre\, Trevenson Rd\, Redruth\, Redruth\, Cornwall\, TR15 3PL\, United States
CATEGORIES:Health & Wellness
END:VEVENT
BEGIN:VEVENT
DTSTART;TZID=Europe/London:20260217T120000
DTEND;TZID=Europe/London:20260217T130000
DTSTAMP:20260422T100731
CREATED:20260217T151206Z
LAST-MODIFIED:20260217T151206Z
UID:5203-1771329600-1771333200@cornwallinnovation.co.uk
SUMMARY:Health & Wellness Sessions
DESCRIPTION:Helen from Mindfit Cornwall will be here on Tuesday 10th February 2026 for our monthly Wellness session. \nThe session will run from 12.00pm to 1.00pm in Trevithick meeting room. \nThese sessions are a general wellness hour\, that include relaxation\, breathwork\, a gentle stretch and tone with a Pilates section. \nThey are suitable for everyone\, and Helen will be joined by Sally for all these sessions\, who will be offering mini massages. \nIf you cannot make the full hour\, please feel free to drop in for the time that you can. \nTo book your space\, please email on: picevents@plymouth.ac.uk
URL:https://cornwallinnovation.co.uk/event/health-wellness-sessions-4/
LOCATION:Pool Innovation Centre\, Trevenson Rd\, Redruth\, Redruth\, Cornwall\, TR15 3PL\, United States
CATEGORIES:Health & Wellness
END:VEVENT
BEGIN:VEVENT
DTSTART;TZID=Europe/London:20260211T120000
DTEND;TZID=Europe/London:20260211T130000
DTSTAMP:20260422T100731
CREATED:20260217T150429Z
LAST-MODIFIED:20260217T151315Z
UID:5194-1770811200-1770814800@cornwallinnovation.co.uk
SUMMARY:Health & Wellness Sessions
DESCRIPTION:Helen from Mindfit Cornwall returns for our next monthly Wellness Session! \nTake time out for yourself and join us for a relaxing and uplifting wellness hour\, including guided relaxation\, breathwork\, and a gentle stretch and tone with a Pilates section. \nSuitable for everyone\, whatever your level of experience. If you can’t stay for the full hour\, feel free to drop in for as long as you’re able. \nCome along\, unwind\, and give your wellbeing a boost. \nComplimentary for all CIC Customers \n📍 Helford Suite\, TIC\nTo book a place: TICEvents@plymouth.ac.uk
URL:https://cornwallinnovation.co.uk/event/health-wellness-sessions-2/
LOCATION:Tremough Innovation Centre\, Tremough Innovation Centre\, Penryn\, Tr10 9TA\, United Kingdom
CATEGORIES:Health & Wellness
END:VEVENT
BEGIN:VEVENT
DTSTART;TZID=Europe/London:20260120T120000
DTEND;TZID=Europe/London:20260120T130000
DTSTAMP:20260422T100731
CREATED:20260217T152739Z
LAST-MODIFIED:20260217T152739Z
UID:5207-1768910400-1768914000@cornwallinnovation.co.uk
SUMMARY:Health & Wellness Sessions
DESCRIPTION:Helen from Mindfit Cornwall returns  for our next monthly Wellness Session! \nTake time out for yourself and join us for a relaxing and uplifting wellness hour\, including guided relaxation\, breathwork\, and a gentle stretch and tone with a Pilates section. \nSuitable for everyone\, whatever your level of experience. If you can’t stay for the full hour\, feel free to drop in for as long as you’re able. \nCome along\, unwind\, and give your wellbeing a boost. \nComplimentary for all CIC Customers
URL:https://cornwallinnovation.co.uk/event/health-wellness-sessions-5/
LOCATION:Health & Wellbeing Innovation Centre\, Health & Wellbeing Centre\, Truro\, Tr1 3FF\, United Kingdom
CATEGORIES:Health & Wellness
END:VEVENT
BEGIN:VEVENT
DTSTART;TZID=Europe/London:20260114T120000
DTEND;TZID=Europe/London:20260114T130000
DTSTAMP:20260422T100731
CREATED:20260217T150520Z
LAST-MODIFIED:20260217T151331Z
UID:5196-1768392000-1768395600@cornwallinnovation.co.uk
SUMMARY:Health & Wellness Sessions
DESCRIPTION:Helen from Mindfit Cornwall returns  for our next monthly Wellness Session! \nTake time out for yourself and join us for a relaxing and uplifting wellness hour\, including guided relaxation\, breathwork\, and a gentle stretch and tone with a Pilates section. \nSuitable for everyone\, whatever your level of experience. If you can’t stay for the full hour\, feel free to drop in for as long as you’re able. \nCome along\, unwind\, and give your wellbeing a boost. \nComplimentary for all CIC Customers \n📍 Helford Suite\, TIC\nTo book a place: TICEvents@plymouth.ac.uk
URL:https://cornwallinnovation.co.uk/event/health-wellness-sessions-3/
LOCATION:Cornwall
CATEGORIES:Health & Wellness
END:VEVENT
BEGIN:VEVENT
DTSTART;TZID=Europe/London:20260113T120000
DTEND;TZID=Europe/London:20260113T130000
DTSTAMP:20260422T100731
CREATED:20260217T153039Z
LAST-MODIFIED:20260217T153039Z
UID:5216-1768305600-1768309200@cornwallinnovation.co.uk
SUMMARY:Health & Wellbeing Sessions
DESCRIPTION:Helen from Mindfit Cornwall returns for our next monthly Wellness Session! \nTake time out for yourself and join us for a relaxing and uplifting wellness hour\, including guided relaxation\, breathwork\, and a gentle stretch and tone with a Pilates section. \nSuitable for everyone\, whatever your level of experience. If you can’t stay for the full hour\, feel free to drop in for as long as you’re able. \nCome along\, unwind\, and give your wellbeing a boost. \nComplimentary for all CIC Customers
URL:https://cornwallinnovation.co.uk/event/health-wellbeing-sessions/
LOCATION:Pool Innovation Centre\, Trevenson Rd\, Redruth\, Redruth\, Cornwall\, TR15 3PL\, United States
CATEGORIES:Health & Wellness
END:VEVENT
END:VCALENDAR