BEGIN:VCALENDAR
VERSION:2.0
PRODID:-//Cornwall Innovation - ECPv6.15.20//NONSGML v1.0//EN
CALSCALE:GREGORIAN
METHOD:PUBLISH
X-WR-CALNAME:Cornwall Innovation
X-ORIGINAL-URL:https://cornwallinnovation.co.uk
X-WR-CALDESC:Events for Cornwall Innovation
REFRESH-INTERVAL;VALUE=DURATION:PT1H
X-Robots-Tag:noindex
X-PUBLISHED-TTL:PT1H
BEGIN:VTIMEZONE
TZID:Europe/London
BEGIN:DAYLIGHT
TZOFFSETFROM:+0000
TZOFFSETTO:+0100
TZNAME:BST
DTSTART:20250330T010000
END:DAYLIGHT
BEGIN:STANDARD
TZOFFSETFROM:+0100
TZOFFSETTO:+0000
TZNAME:GMT
DTSTART:20251026T010000
END:STANDARD
BEGIN:DAYLIGHT
TZOFFSETFROM:+0000
TZOFFSETTO:+0100
TZNAME:BST
DTSTART:20260329T010000
END:DAYLIGHT
BEGIN:STANDARD
TZOFFSETFROM:+0100
TZOFFSETTO:+0000
TZNAME:GMT
DTSTART:20261025T010000
END:STANDARD
BEGIN:DAYLIGHT
TZOFFSETFROM:+0000
TZOFFSETTO:+0100
TZNAME:BST
DTSTART:20270328T010000
END:DAYLIGHT
BEGIN:STANDARD
TZOFFSETFROM:+0100
TZOFFSETTO:+0000
TZNAME:GMT
DTSTART:20271031T010000
END:STANDARD
END:VTIMEZONE
BEGIN:VEVENT
DTSTART;TZID=Europe/London:20260217T120000
DTEND;TZID=Europe/London:20260217T130000
DTSTAMP:20260422T151544
CREATED:20260217T151206Z
LAST-MODIFIED:20260217T151206Z
UID:5203-1771329600-1771333200@cornwallinnovation.co.uk
SUMMARY:Health & Wellness Sessions
DESCRIPTION:Helen from Mindfit Cornwall will be here on Tuesday 10th February 2026 for our monthly Wellness session. \nThe session will run from 12.00pm to 1.00pm in Trevithick meeting room. \nThese sessions are a general wellness hour\, that include relaxation\, breathwork\, a gentle stretch and tone with a Pilates section. \nThey are suitable for everyone\, and Helen will be joined by Sally for all these sessions\, who will be offering mini massages. \nIf you cannot make the full hour\, please feel free to drop in for the time that you can. \nTo book your space\, please email on: picevents@plymouth.ac.uk
URL:https://cornwallinnovation.co.uk/event/health-wellness-sessions-4/
LOCATION:Pool Innovation Centre\, Trevenson Rd\, Redruth\, Redruth\, Cornwall\, TR15 3PL\, United States
CATEGORIES:Health & Wellness
END:VEVENT
END:VCALENDAR