BEGIN:VCALENDAR
VERSION:2.0
PRODID:-//Cornwall Innovation - ECPv6.15.20//NONSGML v1.0//EN
CALSCALE:GREGORIAN
METHOD:PUBLISH
X-ORIGINAL-URL:https://cornwallinnovation.co.uk
X-WR-CALDESC:Events for Cornwall Innovation
REFRESH-INTERVAL;VALUE=DURATION:PT1H
X-Robots-Tag:noindex
X-PUBLISHED-TTL:PT1H
BEGIN:VTIMEZONE
TZID:Europe/London
BEGIN:DAYLIGHT
TZOFFSETFROM:+0000
TZOFFSETTO:+0100
TZNAME:BST
DTSTART:20250330T010000
END:DAYLIGHT
BEGIN:STANDARD
TZOFFSETFROM:+0100
TZOFFSETTO:+0000
TZNAME:GMT
DTSTART:20251026T010000
END:STANDARD
BEGIN:DAYLIGHT
TZOFFSETFROM:+0000
TZOFFSETTO:+0100
TZNAME:BST
DTSTART:20260329T010000
END:DAYLIGHT
BEGIN:STANDARD
TZOFFSETFROM:+0100
TZOFFSETTO:+0000
TZNAME:GMT
DTSTART:20261025T010000
END:STANDARD
BEGIN:DAYLIGHT
TZOFFSETFROM:+0000
TZOFFSETTO:+0100
TZNAME:BST
DTSTART:20270328T010000
END:DAYLIGHT
BEGIN:STANDARD
TZOFFSETFROM:+0100
TZOFFSETTO:+0000
TZNAME:GMT
DTSTART:20271031T010000
END:STANDARD
END:VTIMEZONE
BEGIN:VEVENT
DTSTART;TZID=Europe/London:20260623T100000
DTEND;TZID=Europe/London:20260623T123000
DTSTAMP:20260420T084233
CREATED:20260416T105422Z
LAST-MODIFIED:20260416T105422Z
UID:5349-1782208800-1782217800@cornwallinnovation.co.uk
SUMMARY:Goal Setting Sessions
DESCRIPTION:
URL:https://cornwallinnovation.co.uk/event/goal-setting-sessions/
LOCATION:Tremough Innovation Centre\, Tremough Innovation Centre\, Penryn\, Tr10 9TA\, United Kingdom
CATEGORIES:Business Events
END:VEVENT
BEGIN:VEVENT
DTSTART;TZID=Europe/London:20260923T100000
DTEND;TZID=Europe/London:20260923T123000
DTSTAMP:20260420T084233
CREATED:20260416T105504Z
LAST-MODIFIED:20260416T105504Z
UID:5351-1790157600-1790166600@cornwallinnovation.co.uk
SUMMARY:Goal Setting Sessions
DESCRIPTION:
URL:https://cornwallinnovation.co.uk/event/goal-setting-sessions-2/
LOCATION:Tremough Innovation Centre\, Tremough Innovation Centre\, Penryn\, Tr10 9TA\, United Kingdom
CATEGORIES:Business Events
END:VEVENT
BEGIN:VEVENT
DTSTART;TZID=Europe/London:20261006T100000
DTEND;TZID=Europe/London:20261006T123000
DTSTAMP:20260420T084233
CREATED:20260416T105126Z
LAST-MODIFIED:20260416T105246Z
UID:5346-1791280800-1791289800@cornwallinnovation.co.uk
SUMMARY:Personal Branding Session - 2026
DESCRIPTION:
URL:https://cornwallinnovation.co.uk/event/personal-branding-session-2026/
LOCATION:Pool Innovation Centre\, Trevenson Rd\, Redruth\, Redruth\, Cornwall\, TR15 3PL\, United States
CATEGORIES:Business Events
END:VEVENT
BEGIN:VEVENT
DTSTART;TZID=Europe/London:20261201T093000
DTEND;TZID=Europe/London:20261201T163000
DTSTAMP:20260420T084233
CREATED:20260416T105023Z
LAST-MODIFIED:20260416T105314Z
UID:5344-1796117400-1796142600@cornwallinnovation.co.uk
SUMMARY:Annual Planning for 2027
DESCRIPTION:
URL:https://cornwallinnovation.co.uk/event/annual-planning-for-2027/
LOCATION:Tremough Innovation Centre\, Tremough Innovation Centre\, Penryn\, Tr10 9TA\, United Kingdom
CATEGORIES:Business Events
END:VEVENT
END:VCALENDAR