BEGIN:VCALENDAR
VERSION:2.0
PRODID:-//Cornwall Innovation - ECPv6.15.20//NONSGML v1.0//EN
CALSCALE:GREGORIAN
METHOD:PUBLISH
X-WR-CALNAME:Cornwall Innovation
X-ORIGINAL-URL:https://cornwallinnovation.co.uk
X-WR-CALDESC:Events for Cornwall Innovation
REFRESH-INTERVAL;VALUE=DURATION:PT1H
X-Robots-Tag:noindex
X-PUBLISHED-TTL:PT1H
BEGIN:VTIMEZONE
TZID:Europe/London
BEGIN:DAYLIGHT
TZOFFSETFROM:+0000
TZOFFSETTO:+0100
TZNAME:BST
DTSTART:20250330T010000
END:DAYLIGHT
BEGIN:STANDARD
TZOFFSETFROM:+0100
TZOFFSETTO:+0000
TZNAME:GMT
DTSTART:20251026T010000
END:STANDARD
BEGIN:DAYLIGHT
TZOFFSETFROM:+0000
TZOFFSETTO:+0100
TZNAME:BST
DTSTART:20260329T010000
END:DAYLIGHT
BEGIN:STANDARD
TZOFFSETFROM:+0100
TZOFFSETTO:+0000
TZNAME:GMT
DTSTART:20261025T010000
END:STANDARD
BEGIN:DAYLIGHT
TZOFFSETFROM:+0000
TZOFFSETTO:+0100
TZNAME:BST
DTSTART:20270328T010000
END:DAYLIGHT
BEGIN:STANDARD
TZOFFSETFROM:+0100
TZOFFSETTO:+0000
TZNAME:GMT
DTSTART:20271031T010000
END:STANDARD
END:VTIMEZONE
BEGIN:VEVENT
DTSTART;TZID=Europe/London:20260325T133000
DTEND;TZID=Europe/London:20260325T160000
DTSTAMP:20260422T101401
CREATED:20260217T153747Z
LAST-MODIFIED:20260305T093639Z
UID:5228-1774445400-1774454400@cornwallinnovation.co.uk
SUMMARY:Business Strategy Group
DESCRIPTION:Business Strategy Group at Tremough Innovation Centre. Meeting monthly\, business owners and leaders will meet to discuss their goals and how they are achieving the tasks they set themselves. Peer learning\, accountability and this supportive community are paramount to continuous growth aligned with your goals\, so tasks remain focused and don’t become forgotten about on the ‘to-do’ list! External speakers will be invited to discuss topics you\, as a group\, need support with. Please contact Rebecca Loto for bookings\, Rebecca.Loto@plymouth.ac.uk.
URL:https://cornwallinnovation.co.uk/event/business-strategy-group/
LOCATION:Tremough Innovation Centre\, Tremough Innovation Centre\, Penryn\, Tr10 9TA\, United Kingdom
CATEGORIES:Business Events
ATTACH;FMTTYPE=image/png:https://cornwallinnovation.co.uk/wp-content/uploads/2026/02/Goal-Setting-Workshop-25.3.26-TIC.png
END:VEVENT
BEGIN:VEVENT
DTSTART;TZID=Europe/London:20260121T090000
DTEND;TZID=Europe/London:20260121T163000
DTSTAMP:20260422T101401
CREATED:20260217T152821Z
LAST-MODIFIED:20260217T152821Z
UID:5211-1768986000-1769013000@cornwallinnovation.co.uk
SUMMARY:Business Strategy Day
DESCRIPTION:An inspired day to map out your business and personal goals in 2026.  This event is free to attend for Cornwall Innovation customers. Please contact Rebecca Loto for bookings\, Rebecca.Loto@plymouth.ac.uk. \n21st January 9.30am – 4.30pm (lunch included) \n 
URL:https://cornwallinnovation.co.uk/event/business-strategy-day/
LOCATION:Tremough Innovation Centre\, Tremough Innovation Centre\, Penryn\, Tr10 9TA\, United Kingdom
CATEGORIES:Business Events
END:VEVENT
END:VCALENDAR