BEGIN:VCALENDAR
VERSION:2.0
PRODID:-//Cornwall Innovation - ECPv6.15.20//NONSGML v1.0//EN
CALSCALE:GREGORIAN
METHOD:PUBLISH
X-ORIGINAL-URL:https://cornwallinnovation.co.uk
X-WR-CALDESC:Events for Cornwall Innovation
REFRESH-INTERVAL;VALUE=DURATION:PT1H
X-Robots-Tag:noindex
X-PUBLISHED-TTL:PT1H
BEGIN:VTIMEZONE
TZID:Europe/London
BEGIN:DAYLIGHT
TZOFFSETFROM:+0000
TZOFFSETTO:+0100
TZNAME:BST
DTSTART:20250330T010000
END:DAYLIGHT
BEGIN:STANDARD
TZOFFSETFROM:+0100
TZOFFSETTO:+0000
TZNAME:GMT
DTSTART:20251026T010000
END:STANDARD
BEGIN:DAYLIGHT
TZOFFSETFROM:+0000
TZOFFSETTO:+0100
TZNAME:BST
DTSTART:20260329T010000
END:DAYLIGHT
BEGIN:STANDARD
TZOFFSETFROM:+0100
TZOFFSETTO:+0000
TZNAME:GMT
DTSTART:20261025T010000
END:STANDARD
BEGIN:DAYLIGHT
TZOFFSETFROM:+0000
TZOFFSETTO:+0100
TZNAME:BST
DTSTART:20270328T010000
END:DAYLIGHT
BEGIN:STANDARD
TZOFFSETFROM:+0100
TZOFFSETTO:+0000
TZNAME:GMT
DTSTART:20271031T010000
END:STANDARD
END:VTIMEZONE
BEGIN:VEVENT
DTSTART;TZID=Europe/London:20260311T093000
DTEND;TZID=Europe/London:20260311T103000
DTSTAMP:20260420T065441
CREATED:20260217T150317Z
LAST-MODIFIED:20260305T093520Z
UID:5179-1773221400-1773225000@cornwallinnovation.co.uk
SUMMARY:Cuppa & Chat
DESCRIPTION:Cuppa & Chat – Connect with your Cornwall Innovation Community \nGet to know your neighbours \nPotential New Collaborations \nNo booking needed \nCoffee\, Tea & Pastries on us! \n 
URL:https://cornwallinnovation.co.uk/event/cuppa-chat/
LOCATION:Pool Innovation Centre\, Trevenson Rd\, Redruth\, Redruth\, Cornwall\, TR15 3PL\, United States
CATEGORIES:Networking
ATTACH;FMTTYPE=image/png:https://cornwallinnovation.co.uk/wp-content/uploads/2026/02/Cuppa-Chat-PIC-11.3.26-800x600-size.png
END:VEVENT
BEGIN:VEVENT
DTSTART;TZID=Europe/London:20260311T120000
DTEND;TZID=Europe/London:20260311T130000
DTSTAMP:20260420T065441
CREATED:20260217T150034Z
LAST-MODIFIED:20260217T151236Z
UID:5191-1773230400-1773234000@cornwallinnovation.co.uk
SUMMARY:Health & Wellness Sessions
DESCRIPTION:Helen from Mindfit Cornwall returns  for our next monthly Wellness Session! \nTake time out for yourself and join us for a relaxing and uplifting wellness hour\, including guided relaxation\, breathwork\, and a gentle stretch and tone with a Pilates section. \nSuitable for everyone\, whatever your level of experience. If you can’t stay for the full hour\, feel free to drop in for as long as you’re able. \nCome along\, unwind\, and give your wellbeing a boost. \nComplimentary for all CIC Customers \n📍 Helford Suite\, TIC\nTo book a place: TICEvents@plymouth.ac.uk
URL:https://cornwallinnovation.co.uk/event/health-wellness-sessions/
LOCATION:Tremough Innovation Centre\, Tremough Innovation Centre\, Penryn\, Tr10 9TA\, United Kingdom
CATEGORIES:Health & Wellness
END:VEVENT
END:VCALENDAR